BEGIN:VCALENDAR
VERSION:2.0
PRODID:-//ChamberMaster//Event Calendar 2.0//EN
METHOD:PUBLISH
X-PUBLISHED-TTL:P3D
REFRESH-INTERVAL:P3D
CALSCALE:GREGORIAN
BEGIN:VEVENT
DTSTART;VALUE=DATE:20220731
DTEND;VALUE=DATE:20220801
TRANSP:TRANSPARENT
X-MICROSOFT-CDO-ALLDAYEVENT:TRUE
SUMMARY:Preliminary Tournament Sponsor
DESCRIPTION:We are currently soliciting venues for Preliminary Tournaments. Each of the Preliminary Tournaments will be played and your finalists submitted by July 31st. The time and date of the Preliminary Tournaments will be at the discretion of the venue and the Tournament director.\n\nHosting a Preliminary Tournament only costs $100 and comes with a number of different benefits to promote your business and the tournament.
X-ALT-DESC;FMTTYPE=text/html:<p>We are currently soliciting venues for&nbsp\;Preliminary Tournaments. Each of the Preliminary Tournaments will be played and your finalists submitted <strong>by</strong> <strong>July 31st</strong>. The time and date of the Preliminary Tournaments will be at the discretion of the venue and the Tournament director.</p>\n\n<p>Hosting a Preliminary Tournament only costs $100 and comes with a number of different benefits to promote your business and the tournament.</p>\n
LOCATION:Your place of business
UID:e.716.14499
SEQUENCE:3
DTSTAMP:20260419T150844Z
URL:http://chamber.skchamber.org/events/details/preliminary-tournament-sponsor-14499
END:VEVENT

END:VCALENDAR
