BEGIN:VCALENDAR
VERSION:2.0
PRODID:-//ChamberMaster//Event Calendar 2.0//EN
METHOD:PUBLISH
X-PUBLISHED-TTL:P3D
REFRESH-INTERVAL:P3D
CALSCALE:GREGORIAN
BEGIN:VEVENT
DTSTART:20260212T190000Z
DTEND:20260212T210000Z
X-MICROSOFT-CDO-ALLDAYEVENT:FALSE
SUMMARY:Chamber Luncheon - February 2026
DESCRIPTION:Join us for an engaging program with Andy Thompson\, focused on practical networking skills for everyone from the anxious networker to the seasoned pro.\n\n\n\nFrom the obvious name-tag scanning to the uncomfortable silences and elevator pitches\, we've all felt the awkwardness of networking. But whether you're new to networking or a seasoned pro\, there are ways to make the networking experience feel more authentic for you and the people you meet! In this workshop\, we'll explore ways to set yourself up for success and important networking skills like asking great questions\, actively listening\, and authentically connecting with others.\n\n\n\nAbout the Presenter\n\nAndy Thompson\, owner of Lead Forward Co\, has spent nearly a decade working with executives\, managers\, and professionals as a coach and leadership development consultant. His background includes work in behavioral health and private practice as a licensed family therapist. With a deep understanding of human systems and how people work together\, Andy helps leaders\, teams\, and organizations grow\, navigate change\, and overcome challenges.
X-ALT-DESC;FMTTYPE=text/html:<span style="font-size:16px\;"><span style="font-family:arial\;">Join us for an engaging program with Andy Thompson\, focused on practical networking skills for everyone&mdash\;from the anxious networker to the seasoned pro.<br />\n<br />\nFrom the obvious name-tag scanning to the uncomfortable silences and elevator pitches\, we&rsquo\;ve all felt the awkwardness of networking. But whether you&rsquo\;re new to networking or a seasoned pro\, there are ways to make the networking experience feel more authentic for you and the people you meet! In this workshop\, we&rsquo\;ll explore ways to set yourself up for success and important networking skills like asking great questions\, actively listening\, and authentically connecting with others.<br />\n<br />\n<strong data-end="879" data-start="856">About the Presenter</strong><br data-end="882" data-start="879" />\nAndy Thompson\, owner of <strong data-end="925" data-start="906">Lead Forward Co</strong>\, has spent nearly a decade working with executives\, managers\, and professionals as a coach and leadership development consultant. His background includes work in behavioral health and private practice as a licensed family therapist. With a deep understanding of human systems and how people work together\, Andy helps leaders\, teams\, and organizations grow\, navigate change\, and overcome challenges.</span></span><br />\n<br />\n&nbsp\;
LOCATION:Port Orchard United Methodist Church 725 Kitsap Way
UID:e.716.14910
SEQUENCE:3
DTSTAMP:20260422T073529Z
URL:https://chamber.skchamber.org/events/details/chamber-luncheon-february-2026-14910
END:VEVENT

END:VCALENDAR
