BEGIN:VCALENDAR
VERSION:2.0
PRODID:-//ChamberMaster//Event Calendar 2.0//EN
METHOD:PUBLISH
X-PUBLISHED-TTL:P3D
REFRESH-INTERVAL:P3D
CALSCALE:GREGORIAN
BEGIN:VEVENT
DTSTART:20260312T180000Z
DTEND:20260312T200000Z
X-MICROSOFT-CDO-ALLDAYEVENT:FALSE
SUMMARY:Chamber Luncheon - March 2026
DESCRIPTION:Join us for our Non-Profit Showcase Luncheon\, an opportunity to connect with and learn from the incredible non-profit organizations serving our community. This special luncheon highlights the vital work being done locally while fostering meaningful relationships between non-profits\, businesses\, and community leaders.\n\nThe luncheon will be hosted in an expo-style format\, allowing attendees to move throughout the room and visit each non-profit table\, including yours! This creates an interactive experience where guests can meet directly with presenters\, ask questions\, and learn more about each organization in a conversational\, approachable setting rather than from a single stage presentation.\n\nAttendees will hear brief presentations from participating non-profits\, gaining insight into their missions\, programs\, and the impact they are making every day. Whether you're looking to support a cause\, explore partnership opportunities\, or simply learn more about the organizations strengthening our community\, this event offers a valuable space for connection and collaboration.\n\nEnjoy lunch\, engage in conversation\, and discover ways to get involved in supporting the organizations that make our region a better place to live\, work\, and thrive.\n\n\n\nNon-Profits interested in presenting\, please call the Chamber Office to register with staff. Space is limited and available on a first come-first serve basis.
X-ALT-DESC;FMTTYPE=text/html:<p data-end="674" data-start="356"><span style="font-size:18px\;"><span style="font-family:arial\;">Join us for our Non-Profit Showcase Luncheon\, an opportunity to connect with and learn from the incredible non-profit organizations serving our community. This special luncheon highlights the vital work being done locally while fostering meaningful relationships between non-profits\, businesses\, and community leaders.</span></span></p>\n\n<p class="xxmsonormal"><span style="font-size:18px\;"><span style="font-family:arial\;">The luncheon will be hosted in an expo-style format\, allowing attendees to move throughout the room and visit each non-profit table\, including yours! This creates an interactive experience where guests can meet directly with presenters\, ask questions\, and learn more about each organization in a conversational\, approachable setting&hellip\;rather than from a single stage presentation.</span></span><o:p></o:p></p>\n\n<p data-end="1057" data-start="676"><span style="font-size:18px\;"><span style="font-family:arial\;">Attendees will hear brief presentations from participating non-profits\, gaining insight into their missions\, programs\, and the impact they are making every day. Whether you&rsquo\;re looking to support a cause\, explore partnership opportunities\, or simply learn more about the organizations strengthening our community\, this event offers a valuable space for connection and collaboration.</span></span></p>\n\n<p data-end="1224" data-start="1059"><span style="font-size:18px\;"><span style="font-family:arial\;">Enjoy lunch\, engage in conversation\, and discover ways to get involved in supporting the organizations that make our region a better place to live\, work\, and thrive.<br />\n<br />\n<strong><span style="color:#FF0000\;">Non-Profits interested in presenting\, please call the Chamber Office to register with staff. Space is limited and available on a first come-first serve basis.</span></strong></span></span></p>\n
LOCATION:Port Orchard United Methodist Church 725 Kitsap Street
UID:e.716.14913
SEQUENCE:3
DTSTAMP:20260424T084141Z
URL:https://chamber.skchamber.org/events/details/chamber-luncheon-march-2026-14913
END:VEVENT

END:VCALENDAR
