BEGIN:VCALENDAR
VERSION:2.0
PRODID:-//ChamberMaster//Event Calendar 2.0//EN
METHOD:PUBLISH
X-PUBLISHED-TTL:P3D
REFRESH-INTERVAL:P3D
CALSCALE:GREGORIAN
BEGIN:VEVENT
DTSTART:20251211T190000Z
DTEND:20251211T210000Z
X-MICROSOFT-CDO-ALLDAYEVENT:FALSE
SUMMARY:December Luncheon and Awards
DESCRIPTION:You're Invited!\n\nSouth Kitsap Chamber of Commerce\n\nDecember Luncheon & Community and Business Awards\n\nJoin us for one of the Chamber's most anticipated events of the year as we come together to celebrate the remarkable people and organizations shaping the future of South Kitsap!\n\n  Date: Thursday\, December 11th\n\n  Time: 11:00 AM\n\n  Location: South Kitsap Helpline   NEW Location on Mile Hill\n\nThis special luncheon will feature the presentation of the 2025 Community and Business Awards\, honoring those who have gone above and beyond in service\, leadership\, innovation\, and community impact. From standout volunteers to exceptional small businesses and organizations demonstrating true community spirit\, these awards shine a spotlight on the best of South Kitsap.\n\nGuests will enjoy a delicious lunch\, networking with fellow business and civic leaders\, and the chance to congratulate this year's nominees and winners. Attendees will also have the opportunity to explore South Kitsap Helpline's new facility\, a powerful symbol of growth and support for our community.\n\nCome celebrate excellence\, dedication\, and the bright future of South Kitsap!
X-ALT-DESC;FMTTYPE=text/html:<p data-end="181" data-start="67"><strong data-end="86" data-start="67">You&rsquo\;re Invited!</strong><br data-end="89" data-start="86" />\n<strong data-end="125" data-start="89">South Kitsap Chamber of Commerce</strong><br data-end="128" data-start="125" />\n<strong data-end="181" data-start="128">December Luncheon &amp\; Community and Business Awards</strong></p>\n\n<p data-end="360" data-start="183">Join us for one of the Chamber&rsquo\;s most anticipated events of the year as we come together to celebrate the remarkable people and organizations shaping the future of South Kitsap!</p>\n\n<p data-end="492" data-start="362"><strong data-end="374" data-start="362">&#128197\; Date:</strong> Thursday\, December 11th<br data-end="401" data-start="398" />\n<strong data-end="412" data-start="401">&#9200\; Time:</strong> 11:00 AM<br data-end="424" data-start="421" />\n<strong data-end="440" data-start="424">&#128205\; Location:</strong> South Kitsap Helpline &ndash\; <em data-end="492" data-start="465">NEW Location on Mile Hill</em></p>\n\n<p data-end="896" data-start="494">This special luncheon will feature the presentation of the <strong data-end="591" data-start="553">2025 Community and Business Awards</strong>\, honoring those who have gone above and beyond in service\, leadership\, innovation\, and community impact. From standout volunteers&nbsp\;to exceptional small businesses and organizations demonstrating true community spirit\, these awards shine a spotlight on the best of South Kitsap.</p>\n\n<p data-end="1203" data-start="898">Guests will enjoy a delicious lunch\, networking with fellow business and civic leaders\, and the chance to congratulate this year&rsquo\;s nominees and winners. Attendees will also have the opportunity to explore <strong data-end="1143" data-start="1103">South Kitsap Helpline&rsquo\;s new facility</strong>\, a powerful symbol of growth and support for our community.</p>\n\n<p data-end="1282" data-start="1205">Come celebrate excellence\, dedication\, and the bright future of South Kitsap!</p>\n
LOCATION:4215 SE Mile Hill Dr
UID:e.716.14905
SEQUENCE:3
DTSTAMP:20260422T043146Z
URL:https://chamber.skchamber.org/events/details/december-luncheon-and-awards-14905
END:VEVENT

END:VCALENDAR
