BEGIN:VCALENDAR
VERSION:2.0
PRODID:-//ChamberMaster//Event Calendar 2.0//EN
METHOD:PUBLISH
X-PUBLISHED-TTL:P3D
REFRESH-INTERVAL:P3D
CALSCALE:GREGORIAN
BEGIN:VEVENT
DTSTART;VALUE=DATE:20250816
DTEND;VALUE=DATE:20250817
TRANSP:TRANSPARENT
X-MICROSOFT-CDO-ALLDAYEVENT:TRUE
SUMMARY:KCC - Battle of the Businesses
DESCRIPTION:What Is Battle of the Businesses?\n\nBattle of the Businesses is a high-energy\, relay-style cornhole competition hosted during the 6th Annual Kitsap County Cornhole Classic.\n\n\n\nBusinesses will send their best bag slingers to represent them in a fast-paced\, friendly battle for the ultimate prize:\n\n\n\n  Bragging rights.\n\n  A team trophy.\n\n  And a whole lot of fun.\n\nWhether you're a local bank\, bakery\, brewery\, or boutique this is your chance to bring your crew\, rep your brand\, and join the competition.\n\nDon't Miss Out!\n\nFrom the team introductions to the final toss\, the Cornhole Classic is all about celebrating community\, connecting businesses\, and making memories. Whether you're there to win or just to cheer\, this is a summer tradition that brings everyone together.\n\nBusinesses   We Want to See You Represent\n\nFor more information check out our website
X-ALT-DESC;FMTTYPE=text/html:<h5 data-end="794" data-start="740" style="box-sizing: border-box\; margin: 0px\; padding: 0px 0px 10px\; border: 0px\; outline: 0px\; font-size: 29px\; text-size-adjust: 100%\; vertical-align: baseline\; background: rgb(255\, 255\, 255)\; color: rgb(40\, 56\, 145)\; line-height: 1.2em\; font-family: &quot\;Barlow Condensed&quot\;\, Helvetica\, Arial\, Lucida\, sans-serif\;"><span style="font-size:18px\;"><span style="font-family:arial\;">What Is&nbsp\;<em data-end="793" data-start="767" style="box-sizing: border-box\; margin: 0px\; padding: 0px\; border: 0px\; outline: 0px\; text-size-adjust: 100%\; vertical-align: baseline\; background: transparent\;">Battle of the Businesses</em>?</span></span></h5>\n\n<p data-end="794" data-start="740" style="box-sizing: border-box\; margin: 0px\; padding: 0px 0px 1em\; border: 0px\; outline: 0px\; font-size: 19px\; text-size-adjust: 100%\; vertical-align: baseline\; background: rgb(255\, 255\, 255)\; font-family: Mulish\, Helvetica\, Arial\, Lucida\, sans-serif\;"><span style="font-size:18px\;"><span style="font-family:arial\;">Battle of the Businesses is a high-energy\, relay-style cornhole competition hosted during the 6th Annual Kitsap County Cornhole Classic.</span></span></p>\n\n<p data-end="794" data-start="740" style="box-sizing: border-box\; margin: 0px\; padding: 0px 0px 1em\; border: 0px\; outline: 0px\; font-size: 19px\; text-size-adjust: 100%\; vertical-align: baseline\; background: rgb(255\, 255\, 255)\; font-family: Mulish\, Helvetica\, Arial\, Lucida\, sans-serif\;"><br data-end="955" data-start="952" style="box-sizing: border-box\;" />\n<span style="font-size:18px\;"><span style="font-family:arial\;">Businesses will send their best bag slingers to represent them in a fast-paced\, friendly battle for the ultimate prize:</span></span></p>\n\n<p data-end="794" data-start="740" style="box-sizing: border-box\; margin: 0px\; padding: 0px 0px 1em\; border: 0px\; outline: 0px\; font-size: 19px\; text-size-adjust: 100%\; vertical-align: baseline\; background: rgb(255\, 255\, 255)\; font-family: Mulish\, Helvetica\, Arial\, Lucida\, sans-serif\;"><br data-end="1077" data-start="1074" style="box-sizing: border-box\;" />\n<span style="font-size:18px\;"><span style="font-family:arial\;">&#127942\;&nbsp\;<span data-end="1100" data-start="1080" style="box-sizing: border-box\; margin: 0px\; padding: 0px\; border: 0px\; outline: 0px\; text-size-adjust: 100%\; vertical-align: baseline\; background: transparent\; font-weight: 700\;">Bragging rights.</span><br data-end="1103" data-start="1100" style="box-sizing: border-box\;" />\n&#127942\;&nbsp\;<span data-end="1124" data-start="1106" style="box-sizing: border-box\; margin: 0px\; padding: 0px\; border: 0px\; outline: 0px\; text-size-adjust: 100%\; vertical-align: baseline\; background: transparent\; font-weight: 700\;">A team trophy.</span><br data-end="1127" data-start="1124" style="box-sizing: border-box\;" />\n&#127942\;&nbsp\;<span data-end="1157" data-start="1130" style="box-sizing: border-box\; margin: 0px\; padding: 0px\; border: 0px\; outline: 0px\; text-size-adjust: 100%\; vertical-align: baseline\; background: transparent\; font-weight: 700\;">And a whole lot of fun.</span></span></span></p>\n\n<p data-end="1298" data-start="1159" style="box-sizing: border-box\; margin: 0px\; padding: 0px 0px 1em\; border: 0px\; outline: 0px\; font-size: 19px\; text-size-adjust: 100%\; vertical-align: baseline\; background: rgb(255\, 255\, 255)\; font-family: Mulish\, Helvetica\, Arial\, Lucida\, sans-serif\;"><span style="font-size:18px\;"><span style="font-family:arial\;">Whether you&rsquo\;re a local bank\, bakery\, brewery\, or boutique&mdash\;this is your chance to bring your crew\, rep your brand\, and join the competition.</span></span></p>\n\n<p data-end="1225" data-start="948"><span style="font-size:18px\;"><span style="font-family:arial\;"><strong data-end="967" data-start="948">Don&rsquo\;t Miss Out!</strong><br data-end="970" data-start="967" />\nFrom the team introductions to the final toss\, the Cornhole Classic is all about <strong data-end="1120" data-start="1051">celebrating community\, connecting businesses\, and making memories</strong>. Whether you&#39\;re there to win or just to cheer\, this is a summer tradition that brings everyone together.</span></span></p>\n\n<p data-end="1285" data-start="1227"><span style="font-size:18px\;"><span style="font-family:arial\;"><strong data-end="1285" data-start="1227">Businesses &mdash\; We Want to See You Represent<br />\nFor more information check out our <a href="https://skchamber.org/battle/">website</a></strong></span></span></p>\n
LOCATION:South Kitsap Western Little League Minors Field at 4611 Sidney Road SW\, Port Orchard WA
UID:e.716.14873
SEQUENCE:3
DTSTAMP:20260422T101301Z
URL:https://chamber.skchamber.org/events/details/kcc-business-bracket-14873
END:VEVENT

END:VCALENDAR
