BEGIN:VCALENDAR
VERSION:2.0
PRODID:-//ChamberMaster//Event Calendar 2.0//EN
METHOD:PUBLISH
X-PUBLISHED-TTL:P3D
REFRESH-INTERVAL:P3D
CALSCALE:GREGORIAN
BEGIN:VEVENT
DTSTART:20251118T153000Z
DTEND:20251118T170000Z
X-MICROSOFT-CDO-ALLDAYEVENT:FALSE
SUMMARY:SKYP - Coffee & Connections
DESCRIPTION:Join South Kitsap Young Professionals for another Coffee and Connections event. \n\nCome together with like-minded individuals to connect\, collaborate\, and grow your network. \n\n\n\nNo cost for the event: we ask that you support our host's business by purchasing coffee and/or breakfast during the event.\n\n\n\nPLEASE RSVP by registering for the event!
X-ALT-DESC;FMTTYPE=text/html:<p>Join South Kitsap Young Professionals for another Coffee and Connections event.&nbsp\;</p>\n\n<p>Come together with like-minded individuals to connect\, collaborate\, and grow your network.&nbsp\;<br />\n<br />\nNo cost for the event: we ask that you support our host&#39\;s business by purchasing coffee and/or breakfast during the event.<br />\n<br />\nPLEASE RSVP by registering for the event!&nbsp\;</p>\n
LOCATION:Uncle Dave's Cafe 3280 SE Lund Ave #10 Port Orchard\, WA
UID:e.716.14904
SEQUENCE:3
DTSTAMP:20260421T104456Z
URL:https://chamber.skchamber.org/events/details/skyp-coffee-connections-14904
END:VEVENT

END:VCALENDAR
