BEGIN:VCALENDAR
VERSION:2.0
PRODID:-//ChamberMaster//Event Calendar 2.0//EN
METHOD:PUBLISH
X-PUBLISHED-TTL:P3D
REFRESH-INTERVAL:P3D
CALSCALE:GREGORIAN
BEGIN:VEVENT
DTSTART:20251218T010000Z
DTEND:20251218T030000Z
X-MICROSOFT-CDO-ALLDAYEVENT:FALSE
SUMMARY:South Kitsap GreenDrinks
DESCRIPTION:Join Us for South Kitsap GreenDrinks!\n\nRaise a glass and connect with fellow community members at South Kitsap GreenDrinks! This month\, we're excited to gather at the Sidney Museum and Arts Association for an evening of networking\, conversation\, community spirit\, and maybe a little last-minute Holiday Shopping! \n\nWhen: Wednesday\, December 17th\n\nTime: 5:00   7:00 PM\n\nWhere: Sidney Museum and Arts Association\n\nWhether you're a local business owner\, community leader\, or just looking to meet new people\, GreenDrinks is the perfect way to unwind\, share ideas\, and make meaningful connections in a relaxed\, welcoming atmosphere. Light refreshments will be provided.\n\nWe can't wait to see you there!
X-ALT-DESC;FMTTYPE=text/html:<p data-end="115" data-start="72"><span style="font-size:16px\;"><span style="font-family:arial\;"><strong data-end="113" data-start="72">Join Us for South Kitsap GreenDrinks!</strong></span></span></p>\n\n<p data-end="355" data-start="117"><span style="font-size:16px\;"><span style="font-family:arial\;">Raise a glass and connect with fellow community members at <strong data-end="204" data-start="176">South Kitsap GreenDrinks</strong>! This month\, we&rsquo\;re excited to gather at the <strong data-end="287" data-start="249">Sidney Museum and Arts Association</strong> for an evening of networking\, conversation\,&nbsp\;community spirit\, and maybe a little last-minute Holiday Shopping!&nbsp\;</span></span></p>\n\n<p data-end="466" data-start="357"><span style="font-size:16px\;"><span style="font-family:arial\;"><strong data-end="366" data-start="357">When:</strong>&nbsp\;Wednesday\, December 17th<br data-end="392" data-start="389" />\n<strong data-end="401" data-start="392">Time:</strong> 5:00 &ndash\; 7:00 PM<br data-end="419" data-start="416" />\n<strong data-end="429" data-start="419">Where:</strong> Sidney Museum and Arts Association</span></span></p>\n\n<p data-end="722" data-start="468"><span style="font-size:16px\;"><span style="font-family:arial\;">Whether you&rsquo\;re a local business owner\, community leader\, or just looking to meet new people\, GreenDrinks is the perfect way to unwind\, share ideas\, and make meaningful connections in a relaxed\, welcoming atmosphere. Light refreshments will be provided.</span></span></p>\n\n<p data-end="757" data-start="724"><span style="font-size:16px\;"><span style="font-family:arial\;">We can&rsquo\;t wait to see you there!</span></span></p>\n
LOCATION:202 Sidney Avenue Port Orchard\, WA 98366
UID:e.716.14906
SEQUENCE:3
DTSTAMP:20260422T042349Z
URL:https://chamber.skchamber.org/events/details/south-kitsap-greendrinks-12-17-2025-14906
END:VEVENT

END:VCALENDAR
