BEGIN:VCALENDAR
VERSION:2.0
PRODID:-//ChamberMaster//Event Calendar 2.0//EN
METHOD:PUBLISH
X-PUBLISHED-TTL:P3D
REFRESH-INTERVAL:P3D
CALSCALE:GREGORIAN
BEGIN:VEVENT
DTSTART:20250828T000000Z
DTEND:20250828T020000Z
X-MICROSOFT-CDO-ALLDAYEVENT:FALSE
SUMMARY:South Kitsap GreenDrinks - August 2025
DESCRIPTION:Join us this month for South Kitsap GreenDrinks\, hosted by Western Washington Center for the Arts. \n\n \nSouth Kitsap GreenDrinks is a monthly networking event promoted by the South Kitsap Chamber of Commerce on the fourth Wednesday of each month. This laid-back gathering offers a fantastic opportunity for local professionals\, community members\, and business leaders to connect\, share ideas\, and build valuable relationships. Held at different local venues\, each GreenDrinks event highlights unique businesses and community spaces across South Kitsap. Grab a drink\, meet new people\, and discover the vibrant connections within our community at South Kitsap GreenDrinks!\n\nDon't forget to bring your own glass!
X-ALT-DESC;FMTTYPE=text/html:<strong><span style="font-size:14px\;"><span style="font-family:arial\;">Join us this month for South Kitsap GreenDrinks\, hosted by Western Washington Center for the Arts.&nbsp\;</span></span></strong><br />\n&nbsp\;\n<p style="box-sizing: border-box\; margin: 0px\; padding: 0px 0px 1em\; border: 0px\; outline: 0px\; font-size: 21px\; text-size-adjust: 100%\; vertical-align: baseline\; background-image: initial\; background-position: initial\; background-size: initial\; background-repeat: initial\; background-attachment: initial\; background-origin: initial\; background-clip: initial\; color: rgb(0\, 0\, 0)\; font-family: Mulish\, Helvetica\, Arial\, Lucida\, sans-serif\; text-align: center\;"><strong><span style="font-size:14px\;"><span style="font-family:arial\;">South Kitsap GreenDrinks is a monthly networking event promoted by the South Kitsap Chamber of Commerce on the fourth Wednesday of each month. This laid-back gathering offers a fantastic opportunity for local professionals\, community members\, and business leaders to connect\, share ideas\, and build valuable relationships. Held at different local venues\, each GreenDrinks event highlights unique businesses and community spaces across South Kitsap. Grab a drink\, meet new people\, and discover the vibrant connections within our community at South Kitsap GreenDrinks!</span></span></strong></p>\n\n<p style="box-sizing: border-box\; margin: 0px\; padding: 0px\; border: 0px\; outline: 0px\; font-size: 21px\; text-size-adjust: 100%\; vertical-align: baseline\; background-image: initial\; background-position: initial\; background-size: initial\; background-repeat: initial\; background-attachment: initial\; background-origin: initial\; background-clip: initial\; color: rgb(0\, 0\, 0)\; font-family: Mulish\, Helvetica\, Arial\, Lucida\, sans-serif\; text-align: center\;"><strong><span style="font-size:14px\;"><span style="font-family:arial\;">Don&rsquo\;t forget to bring your own glass!</span></span></strong></p>\n
LOCATION:624 Bay Street
UID:e.716.14893
SEQUENCE:3
DTSTAMP:20260422T131634Z
URL:https://chamber.skchamber.org/events/details/south-kitsap-greendrinks-august-2025-14893
END:VEVENT

END:VCALENDAR
