BEGIN:VCALENDAR
VERSION:2.0
PRODID:-//ChamberMaster//Event Calendar 2.0//EN
METHOD:PUBLISH
X-PUBLISHED-TTL:P3D
REFRESH-INTERVAL:P3D
CALSCALE:GREGORIAN
BEGIN:VEVENT
DTSTART:20260203T153000Z
DTEND:20260203T170000Z
X-MICROSOFT-CDO-ALLDAYEVENT:FALSE
SUMMARY:South Kitsap Young Professionals Coffee and Connections
DESCRIPTION:Kickstart Your Morning at Connections & Conversations!\n\nJoin the South Kitsap Young Professionals for a morning of networking\, conversation\, and shared knowledge at The Family Pancake House on Tuesday\, February 3rd at 7:30 AM.\n\nMeet local professionals (ages 18 40)\, exchange ideas\, build meaningful connections\, and pick up tips to help you crush your goals this year. Whether you're new to the area or looking to expand your network\, this is the perfect opportunity to start your day inspired.\n\nSeats are limited. Bring a friend and register today for a relaxed\, energizing morning you won't want to miss!
X-ALT-DESC;FMTTYPE=text/html:<p data-end="172" data-start="109"><span style="font-size:14px\;"><span style="font-family:arial\;">&#9728\;&#65039\; <strong data-end="170" data-start="112">Kickstart Your Morning at Connections &amp\; Conversations!</strong></span></span></p>\n\n<p data-end="358" data-start="174"><span style="font-size:14px\;"><span style="font-family:arial\;">Join the South Kitsap Young Professionals for a morning of networking\, conversation\, and shared knowledge&nbsp\;at <strong data-end="314" data-start="286">The Family Pancake House</strong> on <strong data-end="355" data-start="318">Tuesday\, February&nbsp\;3rd&nbsp\;at 7:30 AM</strong>.</span></span></p>\n\n<p data-end="629" data-start="360"><span style="font-size:14px\;"><span style="font-family:arial\;">Meet local professionals (ages 18&ndash\;40)\, exchange ideas\, build meaningful connections\, and pick up tips to help you crush your goals this year. Whether you&rsquo\;re new to the area or looking to expand your network\, this is the perfect opportunity to start your day inspired.</span></span></p>\n\n<p data-end="742" data-start="631"><span style="font-size:14px\;"><span style="font-family:arial\;">Seats are limited. Bring a friend and register today for a relaxed\, energizing morning you won&rsquo\;t want to miss!</span></span></p>\n
LOCATION:1034 Bethel Ave\, Port Orchard\, WA 98366
UID:e.716.14912
SEQUENCE:3
DTSTAMP:20260422T073601Z
URL:https://chamber.skchamber.org/events/details/south-kitsap-young-professionals-coffee-and-connections-14912
END:VEVENT

END:VCALENDAR
