BEGIN:VCALENDAR
VERSION:2.0
PRODID:-//ChamberMaster//Event Calendar 2.0//EN
METHOD:PUBLISH
X-PUBLISHED-TTL:P3D
REFRESH-INTERVAL:P3D
CALSCALE:GREGORIAN
BEGIN:VEVENT
DTSTART:20220518T220000Z
DTEND:20220519T020000Z
X-MICROSOFT-CDO-ALLDAYEVENT:FALSE
SUMMARY:zWeekly Wednesday Hot Rod Social
DESCRIPTION:Car Show at Bremerton National Airport\n\n\nWhen: Apr 6\, 2022 - Sep 28\, 2022\n\nWhere: Bremerton National Airport\n\nEnjoy unique cars during the Wednesday Night Hot Rod Social every Wednesday from 3- 7 p.m. between April 6 and September 28\, weather permitting. Enjoy music and prize drawings during the event.\n\n\n8850 SW State HWY 3\n\nBremerton\, WA 98312\n\nEvent Facebook page: https://www.facebook.com/wedcruisein/
X-ALT-DESC;FMTTYPE=text/html:<div style="box-sizing: inherit\; margin: 0px 0px 18px\; padding: 0px\; border: 0px\; outline: 0px\; font-variant-numeric: inherit\; font-variant-east-asian: inherit\; font-stretch: inherit\; font-size: 14px\; line-height: inherit\; font-family: open-sans\, sans-serif\; vertical-align: baseline\; color: rgb(0\, 0\, 0)\;">\n<h2 style="box-sizing: inherit\; font-size: 1.6rem\; font-family: inherit\; margin: 0px 0px 6px\; padding: 0px\; border: 0px\; outline: 0px\; font-style: inherit\; font-variant: inherit\; font-stretch: inherit\; line-height: 2rem\; vertical-align: baseline\; color: rgb(183\, 152\, 58)\;">Car Show at Bremerton National Airport</h2>\n</div>\n\n<div id="byline" style="box-sizing: inherit\; margin: 0px 0px 18px\; padding: 0px 0px 18px\; border-width: 0px 0px 1px\; border-top-style: initial\; border-right-style: initial\; border-bottom-style: solid\; border-left-style: initial\; border-top-color: initial\; border-right-color: initial\; border-bottom-color: rgb(204\, 204\, 204)\; border-left-color: initial\; border-image: initial\; outline: 0px\; font-variant-numeric: inherit\; font-variant-east-asian: inherit\; font-stretch: inherit\; font-size: 14px\; line-height: inherit\; font-family: open-sans\, sans-serif\; vertical-align: baseline\; color: rgb(0\, 0\, 0)\;"><span style="box-sizing: inherit\; font-weight: 700\; margin: 0px\; padding: 0px\; border: 0px\; outline: 0px\; font-style: inherit\; font-variant: inherit\; font-stretch: inherit\; font-size: inherit\; line-height: inherit\; font-family: inherit\; vertical-align: baseline\;">When:</span>&nbsp\;Apr 6\, 2022 - Sep 28\, 2022<br style="box-sizing: inherit\;" />\n<span style="box-sizing: inherit\; font-weight: 700\; margin: 0px\; padding: 0px\; border: 0px\; outline: 0px\; font-style: inherit\; font-variant: inherit\; font-stretch: inherit\; font-size: inherit\; line-height: inherit\; font-family: inherit\; vertical-align: baseline\;">Where:</span>&nbsp\;Bremerton National Airport</div>\n\n<div class="intro" style="box-sizing: inherit\; margin: 0px 0px 18px\; padding: 0px\; border: 0px\; outline: 0px\; font-variant-numeric: inherit\; font-variant-east-asian: inherit\; font-stretch: inherit\; font-size: 1.1rem\; line-height: 1.8rem\; font-family: open-sans\, sans-serif\; vertical-align: baseline\; color: rgb(22\, 68\, 123)\;">Enjoy unique cars during the Wednesday Night Hot Rod Social every Wednesday from 3- 7 p.m. between April 6 and September 28\, weather permitting. Enjoy music and prize drawings during the event.</div>\n\n<div style="box-sizing: inherit\; margin: 24px 0px 0px\; padding: 0px\; border: 0px\; outline: 0px\; font-variant-numeric: inherit\; font-variant-east-asian: inherit\; font-stretch: inherit\; font-size: 14px\; line-height: inherit\; font-family: open-sans\, sans-serif\; vertical-align: baseline\; color: rgb(0\, 0\, 0)\;">\n<p style="box-sizing: inherit\; margin: 5px 0px 12px\; padding: 0px\; border: 0px\; outline: 0px\; font: inherit\; vertical-align: baseline\;">8850 SW State HWY 3</p>\n\n<p style="box-sizing: inherit\; margin: 5px 0px 12px\; padding: 0px\; border: 0px\; outline: 0px\; font: inherit\; vertical-align: baseline\;">Bremerton\, WA 98312</p>\n\n<p style="box-sizing: inherit\; margin: 5px 0px 12px\; padding: 0px\; border: 0px\; outline: 0px\; font: inherit\; vertical-align: baseline\;">Event Facebook page:&nbsp\;<a href="https://www.facebook.com/wedcruisein/" style="box-sizing: inherit\; background-color: transparent\; color: rgb(10\, 95\, 197)\; margin: 0px\; padding: 0px\; border: 0px\; outline: 0px\; font: inherit\; vertical-align: baseline\; text-decoration-line: none\;" target="_blank">https://www.facebook.com/wedcruisein/&nbsp\;</a></p>\n</div>\n
LOCATION:
UID:e.716.14278
SEQUENCE:3
DTSTAMP:20260424T013044Z
URL:https://chamber.skchamber.org/events/details/weekly-wednesday-hot-rod-social-05-18-2022-14278
END:VEVENT

END:VCALENDAR
